BEGIN:VCALENDAR
METHOD:PUBLISH
PRODID:Data::ICal 0.13
VERSION:2.0
BEGIN:VEVENT
DESCRIPTION:Diana Ross is bringing her legendary voice and timeless catalog to Houston with Diana in Motion, live at Smart Financial Centre on March 11. The iconic singer will take fans on a musical journey through decades of classic hits, celebrating a career that has shaped generations of soul, pop, and R&amp;B music. Known for her elegance, powerful stage presence, and unforgettable songs, Ross promises an evening filled with nostalgia, emotion, and pure star power as she continues to captivate audiences around the world.
DTSTAMP:20260425T164338Z
DTSTART;TZID=America/Chicago:20260311T133648
DTEND;TZID=America/Chicago:20260311T133648
LOCATION:18111 Lexington Blvd\, Sugar Land\, Texas\, 77479
SUMMARY:Diana Ross Brings “Diana in Motion” Tour to Houston
UID:5484957-1773236208-1773236208
END:VEVENT
END:VCALENDAR
